BEGIN:VCALENDAR
VERSION:2.0
PRODID:icalendar-ruby
CALSCALE:GREGORIAN
METHOD:PUBLISH
BEGIN:VEVENT
DTSTAMP:20260425T154000Z
UID:1298-7174968@pacificcommunity.ca
DTSTART:20261002T020000Z
DTEND:20261002T040000Z
CLASS:PUBLIC
CREATED:20260425T082436
DESCRIPTION:Weekly Gathering of students from grades 8-12.\nA time to rise 
 above in building community\, our relationship with God and impact in the 
 world \nMost nights will include time to hang out\, creative snacks\, you
 th-led worship and relevant teaching\, followed by small groups.\n 
LAST-MODIFIED:20260425T082436
LOCATION:
SUMMARY:Pacific Youth
URL;VALUE=URI:https://www.pacificcommunity.ca/events/pacific-youth--1298/20
 26-10-01
ATTACH;FILENAME=Pacific Youth LOGO DRAFT 2026 (Presentation).png;FMTTYPE=im
 age/png:https://dq5pwpg1q8ru0.cloudfront.net/2026/02/05/19/56/42/2ee6bfec-
 45dd-4114-a2a3-8461d2a3b447/Pacific%20Youth%20LOGO%20DRAFT%202026%20(Prese
 ntation).png
END:VEVENT
END:VCALENDAR
