BEGIN:VCALENDAR
VERSION:2.0
PRODID:icalendar-ruby
CALSCALE:GREGORIAN
METHOD:PUBLISH
BEGIN:VEVENT
DTSTAMP:20260424T194009Z
UID:1321-7095392@pacificcommunity.ca
DTSTART:20260501T020000Z
DTEND:20260501T040000Z
CLASS:PUBLIC
CREATED:20260421T143732
DESCRIPTION:Pacific Youth &amp\; Impact Youth - We're heading to the greens
  and we want YOU to join us!\n\nCome hang out for a fun night of mini golf
  at Vibz Golf in Langley\, BC — bring your best putting face (and your f
 riends)!\n\nDate: Thursday\, April 30th\n Time: 7:00 – 9:00 PM\nLocation
 : Vibz Golf\, Langley\, BC\nCost: $20 (Sign up below)\n\nThe more the merr
 ier\, so bring your friends along for the ride!\n\nSpots are limited\, so 
 make sure to sign up using the link below to save your spot:
LAST-MODIFIED:20260421T143732
LOCATION:Vibez Golf 19638 Fraser Hwy Unit 3\, Langley\, BC V3A 4C5
SUMMARY:Pacific Youth & Impact Youth 
URL;VALUE=URI:https://www.pacificcommunity.ca/events/pacific-youth-impact-y
 outh/2026-04-30
ATTACH;FILENAME=Vibez Minigolf.png;FMTTYPE=image/png:https://dq5pwpg1q8ru0.
 cloudfront.net/2026/04/21/21/27/51/d3ef40de-5dbd-4843-9783-f17959d3f74d/Vi
 bez%20Minigolf.png
END:VEVENT
END:VCALENDAR
