BEGIN:VCALENDAR
VERSION:2.0
PRODID:icalendar-ruby
CALSCALE:GREGORIAN
METHOD:PUBLISH
BEGIN:VEVENT
DTSTAMP:20260423T081903Z
UID:1320-7070087@pacificcommunity.ca
DTSTART:20260520T013000Z
DTEND:20260520T030000Z
CLASS:PUBLIC
CREATED:20260420T111858
DESCRIPTION:We’re hosting our next Prayer Night and invite you to join us
  as we pray for our church\, our community\, and the year ahead. Please RS
 VP so we can plan the space accordingly.\nJoin us on Tuesday\, May 19th fr
 om 6:30–8:00 PM.\nWe will focus on Acts 1:8: “But you will receive pow
 er when the Holy Spirit comes on you\; and you will be my witnesses in Jer
 usalem\, and in all Judea and Samaria\, and to the ends of the earth.”\n
 Together\, we will pray for the Holy Spirit to empower us to be His witnes
 ses in Cloverdale\, across Canada\, and around the world. We will also pra
 y for a “bountiful harvest” and lift up some of our IWs serving global
 ly.
LAST-MODIFIED:20260420T111858
LOCATION:Pacific Community Church
SUMMARY:Prayer Night - Join Us in Prayer
URL;VALUE=URI:https://www.pacificcommunity.ca/events/prayer-night-join-us-i
 n-prayer--1320/2026-05-19
ATTACH;FILENAME=Prayer Night (Presentation) (1).png;FMTTYPE=image/png:https
 ://dq5pwpg1q8ru0.cloudfront.net/2026/04/20/18/18/57/399c6909-dd73-4f14-a87
 5-b9f60cf94930/Prayer%20Night%20(Presentation)%20(1).png
END:VEVENT
END:VCALENDAR
